BEGIN:VCALENDAR
VERSION:2.0
PRODID:-//Howdycon 2026 - ECPv6.15.18//NONSGML v1.0//EN
CALSCALE:GREGORIAN
METHOD:PUBLISH
X-ORIGINAL-URL:https://www.howdycon2026.com
X-WR-CALDESC:Events for Howdycon 2026
REFRESH-INTERVAL;VALUE=DURATION:PT1H
X-Robots-Tag:noindex
X-PUBLISHED-TTL:PT1H
BEGIN:VTIMEZONE
TZID:America/New_York
BEGIN:DAYLIGHT
TZOFFSETFROM:-0500
TZOFFSETTO:-0400
TZNAME:EDT
DTSTART:20250309T070000
END:DAYLIGHT
BEGIN:STANDARD
TZOFFSETFROM:-0400
TZOFFSETTO:-0500
TZNAME:EST
DTSTART:20251102T060000
END:STANDARD
BEGIN:DAYLIGHT
TZOFFSETFROM:-0500
TZOFFSETTO:-0400
TZNAME:EDT
DTSTART:20260308T070000
END:DAYLIGHT
BEGIN:STANDARD
TZOFFSETFROM:-0400
TZOFFSETTO:-0500
TZNAME:EST
DTSTART:20261101T060000
END:STANDARD
BEGIN:DAYLIGHT
TZOFFSETFROM:-0500
TZOFFSETTO:-0400
TZNAME:EDT
DTSTART:20270314T070000
END:DAYLIGHT
BEGIN:STANDARD
TZOFFSETFROM:-0400
TZOFFSETTO:-0500
TZNAME:EST
DTSTART:20271107T060000
END:STANDARD
END:VTIMEZONE
BEGIN:VEVENT
DTSTART;TZID=America/New_York:20260919T120000
DTEND;TZID=America/New_York:20260919T121500
DTSTAMP:20260419T131207
CREATED:20260403T183951Z
LAST-MODIFIED:20260403T195109Z
UID:197-1789819200-1789820100@www.howdycon2026.com
SUMMARY:Day 2 Arrivals
DESCRIPTION:Guests are asked to arrive at the venue at 12pm. Check in\, take a seat and get ready for day two of HowdyCon 2026.
URL:https://www.howdycon2026.com/agenda/arrivals/
CATEGORIES:Day 2
END:VEVENT
BEGIN:VEVENT
DTSTART;TZID=America/New_York:20260919T121500
DTEND;TZID=America/New_York:20260919T130000
DTSTAMP:20260419T131207
CREATED:20260403T184211Z
LAST-MODIFIED:20260403T192401Z
UID:199-1789820100-1789822800@www.howdycon2026.com
SUMMARY:Talk: How We Recover From the Most Destructive Cult in the World
DESCRIPTION:The Church of Scientology represents one of the most destructive cultic organizations that ever existed. The sheer volume of manipulation and control tactics set it head and shoulders above most other high control groups. Recovery from this is not easy and often not straightforward. In this talk\, Chris will discuss some of the obstacles that get in the way of freeing your mind from the manipulations of l Ron Hubbard and some ways ex-members have found of overcoming them. \nSpeaker: Chris Shelton
URL:https://www.howdycon2026.com/agenda/talk-how-we-recover-from-the-most-destructive-cult-in-the-world/
CATEGORIES:Day 2
END:VEVENT
BEGIN:VEVENT
DTSTART;TZID=America/New_York:20260919T130000
DTEND;TZID=America/New_York:20260919T140000
DTSTAMP:20260419T131207
CREATED:20260403T184305Z
LAST-MODIFIED:20260403T192417Z
UID:201-1789822800-1789826400@www.howdycon2026.com
SUMMARY:Talk: A Life Without Permission
DESCRIPTION:What does it actually mean to grow up without choice\, and what happens when you finally get it? This talk goes past the dramatic “escape” moment and into the reality that follows\, where freedom is messy\, identity is a work in progress\, and even basic decisions can feel overwhelming. Drawing from personal experience and our work helping people leave Scientology\, we’ll talk about the emotional fallout\, the practical hurdles\, and what it really takes to build a life that’s finally your own. \nSpeaker: Claire Headley
URL:https://www.howdycon2026.com/agenda/talk-a-life-without-permission/
CATEGORIES:Day 2
END:VEVENT
BEGIN:VEVENT
DTSTART;TZID=America/New_York:20260919T140000
DTEND;TZID=America/New_York:20260919T141500
DTSTAMP:20260419T131207
CREATED:20260403T184337Z
LAST-MODIFIED:20260403T184337Z
UID:203-1789826400-1789827300@www.howdycon2026.com
SUMMARY:Tea/Coffee Break
DESCRIPTION:
URL:https://www.howdycon2026.com/agenda/tea-coffee-break/
CATEGORIES:Day 2
END:VEVENT
BEGIN:VEVENT
DTSTART;TZID=America/New_York:20260919T141500
DTEND;TZID=America/New_York:20260919T150000
DTSTAMP:20260419T131207
CREATED:20260403T184426Z
LAST-MODIFIED:20260403T193911Z
UID:205-1789827300-1789830000@www.howdycon2026.com
SUMMARY:Talk: Journalism\, Activism & Legislative Change
DESCRIPTION:Since its inception\, the Church of Scientology has faced fierce criticism from journalists\, critics and former members. In this session journalist Tony Ortega and ex-Scientologist Alex Barnes-Ross will discuss the importance of holding Scientology to account and how survivors are using the power of their voices to drive legislative change. \nSpeakers: Alex Barnes-Ross and Tony Ortega \n 
URL:https://www.howdycon2026.com/agenda/talk-journalism-activism-legislative-change/
CATEGORIES:Day 2
END:VEVENT
BEGIN:VEVENT
DTSTART;TZID=America/New_York:20260919T150000
DTEND;TZID=America/New_York:20260919T160000
DTSTAMP:20260419T131207
CREATED:20260403T184536Z
LAST-MODIFIED:20260403T184536Z
UID:207-1789830000-1789833600@www.howdycon2026.com
SUMMARY:Lunch Break
DESCRIPTION:A buffet-style lunch will be provided and is included in the cost of your ticket (excluding drinks)
URL:https://www.howdycon2026.com/agenda/lunch-break/
CATEGORIES:Day 2
END:VEVENT
BEGIN:VEVENT
DTSTART;TZID=America/New_York:20260919T160000
DTEND;TZID=America/New_York:20260919T170000
DTSTAMP:20260419T131207
CREATED:20260403T184640Z
LAST-MODIFIED:20260403T192530Z
UID:209-1789833600-1789837200@www.howdycon2026.com
SUMMARY:Group Therapy Podcast Live Recording
DESCRIPTION:Hosted by Tony Ortega\, we will be recording an episode of the Group Therapy podcast live with the usual bunch of jokers and degraders Alex Barnes-Ross\, Claire Headley\, Phil Jones\, Patty Moher\, The Enigmatic Pan and Lynette ‘Observer Waggoner’
URL:https://www.howdycon2026.com/agenda/group-therapy-podcast-live-recording/
CATEGORIES:Day 2
END:VEVENT
BEGIN:VEVENT
DTSTART;TZID=America/New_York:20260919T170000
DTEND;TZID=America/New_York:20260919T174500
DTSTAMP:20260419T131207
CREATED:20260403T184842Z
LAST-MODIFIED:20260403T200119Z
UID:211-1789837200-1789839900@www.howdycon2026.com
SUMMARY:Panel: The Importance of the Michael J. Rinder Aftermath Foundation
DESCRIPTION:The Michael J. Rinder Aftermath Foundation provides a vital lifeline for those leaving Scientology and has helped many people across the world establish new\, independent lives outside of the organization. In this session\, President Claire Headley and Executive Director Phil Jones will share how the Foundation changes lives and why its work is so important. \nSpeakers: Claire Headley and Phil Jones
URL:https://www.howdycon2026.com/agenda/panel-the-importance-of-the-michael-j-rinder-aftermath-foundation/
CATEGORIES:Day 2
END:VEVENT
BEGIN:VEVENT
DTSTART;TZID=America/New_York:20260919T174500
DTEND;TZID=America/New_York:20260919T180000
DTSTAMP:20260419T131207
CREATED:20260403T184916Z
LAST-MODIFIED:20260403T194859Z
UID:213-1789839900-1789840800@www.howdycon2026.com
SUMMARY:Silent Auction Winners Announcement & Closing Remarks
DESCRIPTION:As we bring HowdyCon 2026 to a close\, Tony Ortega will announce the winners of the silent auction in support of the Michael J .Rinder Aftermath Foundation and make closing remarks before we move venues for the after party.
URL:https://www.howdycon2026.com/agenda/silent-auction-winners-announcement-closing-remarks/
CATEGORIES:Day 2
END:VEVENT
BEGIN:VEVENT
DTSTART;TZID=America/New_York:20260919T183000
DTEND;TZID=America/New_York:20260919T220000
DTSTAMP:20260419T131207
CREATED:20260403T184959Z
LAST-MODIFIED:20260403T184959Z
UID:215-1789842600-1789855200@www.howdycon2026.com
SUMMARY:After Party
DESCRIPTION:
URL:https://www.howdycon2026.com/agenda/after-party/
CATEGORIES:Day 2
END:VEVENT
END:VCALENDAR